BEGIN:VCALENDAR
VERSION:2.0
PRODID:-//Plone.org//NONSGML plone.app.event//EN
X-WR-TIMEZONE:Brazil/East
BEGIN:VEVENT
SUMMARY:Não houveram eventos externos
DTSTART;TZID=Brazil/East;VALUE=DATE-TIME:20170301T000000
DTEND;TZID=Brazil/East;VALUE=DATE-TIME:20170331T235900
DTSTAMP;VALUE=DATE-TIME:20260419T102716Z
UID:e343f2d21c6f4e03959a104819405027@www.goianesiadopara.pa.leg.br
ATTENDEE;CN="Presidente da Câmara Municipal";ROLE=REQ-PARTICIPANT:Preside
 nte da Câmara Municipal
CONTACT:Emerson\, 94-3779-1168\, camara.goi@hotmail.com
CREATED;VALUE=DATE-TIME:20180912T202751Z
DESCRIPTION:No mês corrente não houve eventos externos com o Sr. Preside
 nte
LAST-MODIFIED;VALUE=DATE-TIME:20180912T202804Z
LOCATION:Câmara Municipal de Goianésia do Pará
URL:https://www.goianesiadopara.pa.leg.br/transparencia/private/eventos/na
 o-houveram-eventos-externos-4
END:VEVENT
BEGIN:VTIMEZONE
TZID:Brazil/East
X-LIC-LOCATION:Brazil/East
BEGIN:STANDARD
DTSTART;VALUE=DATE-TIME:20170218T230000
TZNAME:BRT
TZOFFSETFROM:-0200
TZOFFSETTO:-0300
END:STANDARD
END:VTIMEZONE
END:VCALENDAR
